Package: RPA Version: 1.63.0 Command: /home/biocbuild/bbs-3.21-bioc/R/bin/R CMD check --install=check:RPA.install-out.txt --library=/home/biocbuild/bbs-3.21-bioc/R/site-library --timings RPA_1.63.0.tar.gz StartedAt: 2025-02-04 02:11:30 -0500 (Tue, 04 Feb 2025) EndedAt: 2025-02-04 02:13:49 -0500 (Tue, 04 Feb 2025) EllapsedTime: 139.2 seconds RetCode: 0 Status: OK CheckDir: RPA.Rcheck Warnings: 0