Package: RPA Version: 1.63.0 Command: /home/biocbuild/bbs-3.21-bioc/R/bin/R CMD build --keep-empty-dirs --no-resave-data RPA StartedAt: 2025-02-03 19:09:12 -0500 (Mon, 03 Feb 2025) EndedAt: 2025-02-03 19:09:34 -0500 (Mon, 03 Feb 2025) EllapsedTime: 22.0 seconds RetCode: 0 Status: OK PackageFile: RPA_1.63.0.tar.gz PackageFileSize: 260.5 KiB