Package: RPA Version: 1.63.0 Command: rm -rf RPA.buildbin-libdir && mkdir RPA.buildbin-libdir && /Users/biocbuild/BBS/utils/build-universal.sh RPA_1.63.0.tar.gz /Library/Frameworks/R.framework/Resources/bin/R RPA.buildbin-libdir StartedAt: 2025-02-04 00:53:17 -0500 (Tue, 04 Feb 2025) EndedAt: 2025-02-04 00:53:47 -0500 (Tue, 04 Feb 2025) EllapsedTime: 30.1 seconds RetCode: 0 Status: OK PackageFile: RPA_1.63.0.tgz PackageFileSize: 389.4 KiB