Package: RPA Version: 1.63.0 Command: /Library/Frameworks/R.framework/Resources/bin/R CMD build --keep-empty-dirs --no-resave-data RPA StartedAt: 2025-02-03 18:03:37 -0500 (Mon, 03 Feb 2025) EndedAt: 2025-02-03 18:03:46 -0500 (Mon, 03 Feb 2025) EllapsedTime: 9.1 seconds RetCode: 0 Status: OK PackageFile: RPA_1.63.0.tar.gz PackageFileSize: 260.4 KiB