Package: ROntoTools Version: 2.37.0 Command: /Library/Frameworks/R.framework/Resources/bin/R CMD INSTALL ROntoTools StartedAt: 2025-05-08 15:24:29 -0400 (Thu, 08 May 2025) EndedAt: 2025-05-08 15:24:48 -0400 (Thu, 08 May 2025) EllapsedTime: 18.8 seconds RetCode: 0 Status: OK