Package: ROntoTools Version: 2.37.0 Command: rm -rf ROntoTools.buildbin-libdir && mkdir ROntoTools.buildbin-libdir && /Users/biocbuild/BBS/utils/build-universal.sh ROntoTools_2.37.0.tar.gz /Library/Frameworks/R.framework/Resources/bin/R ROntoTools.buildbin-libdir StartedAt: 2025-05-10 01:05:59 -0400 (Sat, 10 May 2025) EndedAt: 2025-05-10 01:06:21 -0400 (Sat, 10 May 2025) EllapsedTime: 21.7 seconds RetCode: 0 Status: OK PackageFile: ROntoTools_2.37.0.tgz PackageFileSize: 1.601 MiB