Package: ROntoTools Version: 2.37.0 Command: /Library/Frameworks/R.framework/Resources/bin/R CMD check --install=check:ROntoTools.install-out.txt --library=/Library/Frameworks/R.framework/Resources/library --no-vignettes --timings ROntoTools_2.37.0.tar.gz StartedAt: 2025-05-09 21:27:29 -0400 (Fri, 09 May 2025) EndedAt: 2025-05-09 21:28:34 -0400 (Fri, 09 May 2025) EllapsedTime: 64.7 seconds RetCode: 0 Status: WARNINGS CheckDir: ROntoTools.Rcheck Warnings: 1