Package: ROTS Version: 2.1.0 Maintainer: Tomi Suomi MaintainerEmail: tomi.suomi at utu.fi git_url: https://git.bioconductor.org/packages/ROTS git_branch: devel git_last_commit: 7bb6ed6 git_last_commit_date: 2025-04-15 10:58:02 -0400 (Tue, 15 Apr 2025)