Package: ROSeq Version: 1.21.0 Command: rm -rf ROSeq.buildbin-libdir && mkdir ROSeq.buildbin-libdir && F:\biocbuild\bbs-3.22-bioc\R\bin\R.exe CMD INSTALL --build --library=ROSeq.buildbin-libdir ROSeq_1.21.0.tar.gz StartedAt: 2025-08-15 11:10:32 -0400 (Fri, 15 Aug 2025) EndedAt: 2025-08-15 11:10:50 -0400 (Fri, 15 Aug 2025) EllapsedTime: 17.7 seconds RetCode: 0 Status: OK PackageFile: ROSeq_1.21.0.zip PackageFileSize: 7.314 MiB