Package: ROSeq Version: 1.21.0 Maintainer: Krishan Gupta MaintainerEmail: krishang at iiitd.ac.in git_url: https://git.bioconductor.org/packages/ROSeq git_branch: devel git_last_commit: 460dc67 git_last_commit_date: 2025-04-15 11:57:54 -0400 (Tue, 15 Apr 2025)