Package: ROCpAI Version: 1.21.0 Command: /Library/Frameworks/R.framework/Resources/bin/R CMD check --install=check:ROCpAI.install-out.txt --library=/Library/Frameworks/R.framework/Resources/library --no-vignettes --timings ROCpAI_1.21.0.tar.gz StartedAt: 2025-05-07 21:37:15 -0400 (Wed, 07 May 2025) EndedAt: 2025-05-07 21:38:17 -0400 (Wed, 07 May 2025) EllapsedTime: 62.8 seconds RetCode: 0 Status: OK CheckDir: ROCpAI.Rcheck Warnings: 0