Package: ROC Version: 1.83.0 Command: E:\biocbuild\bbs-3.21-bioc\R\bin\R.exe CMD INSTALL ROC StartedAt: 2025-02-03 15:40:55 -0500 (Mon, 03 Feb 2025) EndedAt: 2025-02-03 15:41:06 -0500 (Mon, 03 Feb 2025) EllapsedTime: 11.5 seconds RetCode: 0 Status: OK