Package: ROC Version: 1.85.0 Command: /Library/Frameworks/R.framework/Resources/bin/R CMD check --install=check:ROC.install-out.txt --library=/Library/Frameworks/R.framework/Resources/library --no-vignettes --timings ROC_1.85.0.tar.gz StartedAt: 2025-05-02 21:24:09 -0400 (Fri, 02 May 2025) EndedAt: 2025-05-02 21:24:22 -0400 (Fri, 02 May 2025) EllapsedTime: 13.1 seconds RetCode: 0 Status: OK CheckDir: ROC.Rcheck Warnings: 0