Package: ROC Version: 1.85.0 Command: /Library/Frameworks/R.framework/Resources/bin/R CMD build --keep-empty-dirs --no-resave-data ROC StartedAt: 2025-05-02 17:29:01 -0400 (Fri, 02 May 2025) EndedAt: 2025-05-02 17:29:04 -0400 (Fri, 02 May 2025) EllapsedTime: 3.0 seconds RetCode: 0 Status: OK PackageFile: ROC_1.85.0.tar.gz PackageFileSize: 250.7 KiB