Package: ROC Version: 1.85.0 Command: rm -rf ROC.buildbin-libdir && mkdir ROC.buildbin-libdir && /Users/biocbuild/BBS/utils/build-universal.sh ROC_1.85.0.tar.gz /Library/Frameworks/R.framework/Resources/bin/R ROC.buildbin-libdir StartedAt: 2025-05-02 22:51:40 -0400 (Fri, 02 May 2025) EndedAt: 2025-05-02 22:51:42 -0400 (Fri, 02 May 2025) EllapsedTime: 2.0 seconds RetCode: 0 Status: OK PackageFile: ROC_1.85.0.tgz PackageFileSize: 271.2 KiB