Package: RNAseqCovarImpute Version: 1.7.0 Command: /home/biocbuild/bbs-3.22-bioc/R/bin/R CMD INSTALL RNAseqCovarImpute StartedAt: 2025-10-17 15:11:19 -0400 (Fri, 17 Oct 2025) EndedAt: 2025-10-17 15:11:29 -0400 (Fri, 17 Oct 2025) EllapsedTime: 9.8 seconds RetCode: 0 Status: OK