Package: RNAsense Version: 1.23.0 Command: /home/biocbuild/bbs-3.22-bioc/R/bin/R CMD INSTALL RNAsense StartedAt: 2025-10-17 15:16:56 -0400 (Fri, 17 Oct 2025) EndedAt: 2025-10-17 15:17:20 -0400 (Fri, 17 Oct 2025) EllapsedTime: 23.7 seconds RetCode: 0 Status: OK