Package: RNAsense Version: 1.23.0 Command: /home/biocbuild/bbs-3.22-bioc/R/bin/R CMD build --keep-empty-dirs --no-resave-data --md5 RNAsense StartedAt: 2025-10-17 19:38:50 -0400 (Fri, 17 Oct 2025) EndedAt: 2025-10-17 19:43:09 -0400 (Fri, 17 Oct 2025) EllapsedTime: 259.2 seconds RetCode: 0 Status: OK PackageFile: RNAsense_1.23.0.tar.gz PackageFileSize: 899.2 KiB