Package: RNAmodR Version: 1.21.0 Command: /home/biocbuild/bbs-3.21-bioc/R/bin/R CMD INSTALL RNAmodR StartedAt: 2025-02-16 15:51:17 -0500 (Sun, 16 Feb 2025) EndedAt: 2025-02-16 15:52:27 -0500 (Sun, 16 Feb 2025) EllapsedTime: 70.0 seconds RetCode: 0 Status: OK