Package: RNAmodR.RiboMethSeq Version: 1.23.1 Command: /home/biocbuild/bbs-3.22-bioc/R/bin/R CMD check --install=check:RNAmodR.RiboMethSeq.install-out.txt --library=/home/biocbuild/bbs-3.22-bioc/R/site-library --timings RNAmodR.RiboMethSeq_1.23.1.tar.gz StartedAt: 2025-10-04 03:33:20 -0400 (Sat, 04 Oct 2025) EndedAt: 2025-10-04 03:41:40 -0400 (Sat, 04 Oct 2025) EllapsedTime: 499.4 seconds RetCode: 0 Status: OK CheckDir: RNAmodR.RiboMethSeq.Rcheck Warnings: 0