Package: RNAmodR.AlkAnilineSeq Version: 1.21.0 Command: /home/biocbuild/R/R/bin/R CMD check --install=check:RNAmodR.AlkAnilineSeq.install-out.txt --library=/home/biocbuild/R/R/site-library --no-vignettes --timings RNAmodR.AlkAnilineSeq_1.21.0.tar.gz StartedAt: 2025-01-28 14:37:49 -0000 (Tue, 28 Jan 2025) EndedAt: 2025-01-28 14:47:39 -0000 (Tue, 28 Jan 2025) EllapsedTime: 589.7 seconds RetCode: 0 Status: WARNINGS CheckDir: RNAmodR.AlkAnilineSeq.Rcheck Warnings: 6