Package: RNAdecay Version: 1.29.0 Command: /home/biocbuild/bbs-3.22-bioc/R/bin/R CMD INSTALL RNAdecay StartedAt: 2025-10-03 15:07:15 -0400 (Fri, 03 Oct 2025) EndedAt: 2025-10-03 15:14:37 -0400 (Fri, 03 Oct 2025) EllapsedTime: 441.7 seconds RetCode: 0 Status: OK