Package: RNAdecay Version: 1.29.0 Command: /home/biocbuild/bbs-3.22-bioc/R/bin/R CMD build --keep-empty-dirs --no-resave-data --md5 RNAdecay StartedAt: 2025-10-03 19:38:57 -0400 (Fri, 03 Oct 2025) EndedAt: 2025-10-03 19:51:06 -0400 (Fri, 03 Oct 2025) EllapsedTime: 728.8 seconds RetCode: 1 Status: ERROR PackageFile: None PackageFileSize: NA