Package: RNAdecay Version: 1.27.0 Command: /Library/Frameworks/R.framework/Resources/bin/R CMD check --install=check:RNAdecay.install-out.txt --library=/Library/Frameworks/R.framework/Resources/library --no-vignettes --timings RNAdecay_1.27.0.tar.gz StartedAt: 2025-02-03 22:53:25 -0500 (Mon, 03 Feb 2025) EndedAt: 2025-02-03 22:54:01 -0500 (Mon, 03 Feb 2025) EllapsedTime: 36.7 seconds RetCode: 0 Status: OK CheckDir: RNAdecay.Rcheck Warnings: 0