Package: RNAdecay Version: 1.27.0 Command: /Library/Frameworks/R.framework/Resources/bin/R CMD build --keep-empty-dirs --no-resave-data RNAdecay StartedAt: 2025-02-03 18:08:43 -0500 (Mon, 03 Feb 2025) EndedAt: 2025-02-03 18:20:09 -0500 (Mon, 03 Feb 2025) EllapsedTime: 685.8 seconds RetCode: 0 Status: OK PackageFile: RNAdecay_1.27.0.tar.gz PackageFileSize: 2.707 MiB