Package: RNAdecay Version: 1.29.0 Command: rm -rf RNAdecay.buildbin-libdir && mkdir RNAdecay.buildbin-libdir && /Users/biocbuild/BBS/utils/build-universal.sh RNAdecay_1.29.0.tar.gz /Library/Frameworks/R.framework/Resources/bin/R RNAdecay.buildbin-libdir StartedAt: 2025-04-29 00:47:23 -0400 (Tue, 29 Apr 2025) EndedAt: 2025-04-29 00:55:43 -0400 (Tue, 29 Apr 2025) EllapsedTime: 499.6 seconds RetCode: 0 Status: OK PackageFile: RNAdecay_1.29.0.tgz PackageFileSize: 5.944 MiB