Package: RNAdecay Version: 1.29.0 Command: /Library/Frameworks/R.framework/Resources/bin/R CMD INSTALL RNAdecay StartedAt: 2025-05-08 15:04:25 -0400 (Thu, 08 May 2025) EndedAt: 2025-05-08 15:06:16 -0400 (Thu, 08 May 2025) EllapsedTime: 111.1 seconds RetCode: 0 Status: OK