Package: RNAdecay Version: 1.29.0 Command: /Library/Frameworks/R.framework/Resources/bin/R CMD check --install=check:RNAdecay.install-out.txt --library=/Library/Frameworks/R.framework/Resources/library --no-vignettes --timings RNAdecay_1.29.0.tar.gz StartedAt: 2025-05-09 21:24:55 -0400 (Fri, 09 May 2025) EndedAt: 2025-05-09 21:25:11 -0400 (Fri, 09 May 2025) EllapsedTime: 16.2 seconds RetCode: 0 Status: OK CheckDir: RNAdecay.Rcheck Warnings: 0