Package: RNAdecay Version: 1.29.0 Command: /Library/Frameworks/R.framework/Resources/bin/R CMD build --keep-empty-dirs --no-resave-data RNAdecay StartedAt: 2025-05-09 17:32:54 -0400 (Fri, 09 May 2025) EndedAt: 2025-05-09 17:35:59 -0400 (Fri, 09 May 2025) EllapsedTime: 185.1 seconds RetCode: 0 Status: OK PackageFile: RNAdecay_1.29.0.tar.gz PackageFileSize: 2.708 MiB