Package: RNAdecay Version: 1.29.0 Command: rm -rf RNAdecay.buildbin-libdir && mkdir RNAdecay.buildbin-libdir && /Users/biocbuild/BBS/utils/build-universal.sh RNAdecay_1.29.0.tar.gz /Library/Frameworks/R.framework/Resources/bin/R RNAdecay.buildbin-libdir StartedAt: 2025-05-09 22:54:29 -0400 (Fri, 09 May 2025) EndedAt: 2025-05-09 22:56:35 -0400 (Fri, 09 May 2025) EllapsedTime: 126.4 seconds RetCode: 0 Status: OK PackageFile: RNAdecay_1.29.0.tgz PackageFileSize: 5.137 MiB