Package: RNASeqPower Version: 1.49.0 Command: chmod a+r RNASeqPower -R && F:\biocbuild\bbs-3.22-bioc\R\bin\R.exe CMD build --keep-empty-dirs --no-resave-data RNASeqPower StartedAt: 2025-08-14 22:50:14 -0400 (Thu, 14 Aug 2025) EndedAt: 2025-08-14 22:50:52 -0400 (Thu, 14 Aug 2025) EllapsedTime: 37.5 seconds RetCode: 0 Status: OK PackageFile: RNASeqPower_1.49.0.tar.gz PackageFileSize: 111.2 KiB