Package: RNASeqPower Version: 1.49.0 Command: rm -rf RNASeqPower.buildbin-libdir && mkdir RNASeqPower.buildbin-libdir && F:\biocbuild\bbs-3.22-bioc\R\bin\R.exe CMD INSTALL --build --library=RNASeqPower.buildbin-libdir RNASeqPower_1.49.0.tar.gz StartedAt: 2025-08-15 11:10:01 -0400 (Fri, 15 Aug 2025) EndedAt: 2025-08-15 11:10:08 -0400 (Fri, 15 Aug 2025) EllapsedTime: 6.9 seconds RetCode: 0 Status: OK PackageFile: RNASeqPower_1.49.0.zip PackageFileSize: 123 KiB