Package: RNASeqPower Version: 1.49.0 Command: rm -rf RNASeqPower.buildbin-libdir && mkdir RNASeqPower.buildbin-libdir && /Users/biocbuild/BBS/utils/build-universal.sh RNASeqPower_1.49.0.tar.gz /Library/Frameworks/R.framework/Resources/bin/R RNASeqPower.buildbin-libdir StartedAt: 2025-10-02 02:10:49 -0400 (Thu, 02 Oct 2025) EndedAt: 2025-10-02 02:10:56 -0400 (Thu, 02 Oct 2025) EllapsedTime: 6.9 seconds RetCode: 0 Status: OK PackageFile: RNASeqPower_1.49.0.tgz PackageFileSize: 198.3 KiB