Package: RNAAgeCalc Version: 1.21.0 Command: chmod a+r RNAAgeCalc -R && F:\biocbuild\bbs-3.22-bioc\R\bin\R.exe CMD build --keep-empty-dirs --no-resave-data RNAAgeCalc StartedAt: 2025-08-14 22:49:02 -0400 (Thu, 14 Aug 2025) EndedAt: 2025-08-14 22:50:26 -0400 (Thu, 14 Aug 2025) EllapsedTime: 84.5 seconds RetCode: 0 Status: OK PackageFile: RNAAgeCalc_1.21.0.tar.gz PackageFileSize: 3.29 MiB