Package: RMassBank Version: 3.19.0 Command: /home/biocbuild/bbs-3.22-bioc/R/bin/R CMD INSTALL RMassBank StartedAt: 2025-10-23 15:37:50 -0400 (Thu, 23 Oct 2025) EndedAt: 2025-10-23 15:38:43 -0400 (Thu, 23 Oct 2025) EllapsedTime: 53.2 seconds RetCode: 0 Status: OK