Package: RMassBank Version: 3.17.0 Command: /home/biocbuild/bbs-3.21-bioc/R/bin/R CMD check --install=check:RMassBank.install-out.txt --library=/home/biocbuild/bbs-3.21-bioc/R/site-library --timings RMassBank_3.17.0.tar.gz StartedAt: 2025-02-20 01:49:22 -0500 (Thu, 20 Feb 2025) EndedAt: 2025-02-20 02:01:02 -0500 (Thu, 20 Feb 2025) EllapsedTime: 700.1 seconds RetCode: 0 Status: OK CheckDir: RMassBank.Rcheck Warnings: 0