Package: RMassBank Version: 3.17.0 Command: rm -rf RMassBank.buildbin-libdir && mkdir RMassBank.buildbin-libdir && /Users/biocbuild/BBS/utils/build-universal.sh RMassBank_3.17.0.tar.gz /Library/Frameworks/R.framework/Resources/bin/R RMassBank.buildbin-libdir StartedAt: 2025-02-20 00:50:40 -0500 (Thu, 20 Feb 2025) EndedAt: 2025-02-20 00:51:50 -0500 (Thu, 20 Feb 2025) EllapsedTime: 70.2 seconds RetCode: 0 Status: OK PackageFile: RMassBank_3.17.0.tgz PackageFileSize: 2.753 MiB