Package: RMassBank Version: 3.19.0 Command: rm -rf RMassBank.buildbin-libdir && mkdir RMassBank.buildbin-libdir && /Users/biocbuild/BBS/utils/build-universal.sh RMassBank_3.19.0.tar.gz /Library/Frameworks/R.framework/Resources/bin/R RMassBank.buildbin-libdir StartedAt: 2025-10-10 22:54:49 -0400 (Fri, 10 Oct 2025) EndedAt: 2025-10-10 22:55:11 -0400 (Fri, 10 Oct 2025) EllapsedTime: 22.3 seconds RetCode: 0 Status: OK PackageFile: RMassBank_3.19.0.tgz PackageFileSize: 2.771 MiB