Package: RLassoCox Version: 1.15.0 Command: E:\biocbuild\bbs-3.21-bioc\R\bin\R.exe CMD INSTALL RLassoCox StartedAt: 2025-02-04 16:27:19 -0500 (Tue, 04 Feb 2025) EndedAt: 2025-02-04 16:27:34 -0500 (Tue, 04 Feb 2025) EllapsedTime: 15.0 seconds RetCode: 0 Status: OK