Package: RLassoCox Version: 1.15.0 Command: chmod a+r RLassoCox -R && E:\biocbuild\bbs-3.21-bioc\R\bin\R.exe CMD build --keep-empty-dirs --no-resave-data RLassoCox StartedAt: 2025-02-04 21:15:17 -0500 (Tue, 04 Feb 2025) EndedAt: 2025-02-04 21:17:07 -0500 (Tue, 04 Feb 2025) EllapsedTime: 109.6 seconds RetCode: 0 Status: OK PackageFile: RLassoCox_1.15.0.tar.gz PackageFileSize: 1.968 MiB