Package: RLassoCox Version: 1.15.0 Command: rm -rf RLassoCox.buildbin-libdir && mkdir RLassoCox.buildbin-libdir && E:\biocbuild\bbs-3.21-bioc\R\bin\R.exe CMD INSTALL --build --library=RLassoCox.buildbin-libdir RLassoCox_1.15.0.tar.gz StartedAt: 2025-02-05 08:45:09 -0500 (Wed, 05 Feb 2025) EndedAt: 2025-02-05 08:45:20 -0500 (Wed, 05 Feb 2025) EllapsedTime: 10.8 seconds RetCode: 0 Status: OK PackageFile: RLassoCox_1.15.0.zip PackageFileSize: 1.996 MiB