Package: RLassoCox Version: 1.15.0 Command: /home/biocbuild/bbs-3.21-bioc/R/bin/R CMD INSTALL RLassoCox StartedAt: 2025-02-10 15:14:53 -0500 (Mon, 10 Feb 2025) EndedAt: 2025-02-10 15:15:27 -0500 (Mon, 10 Feb 2025) EllapsedTime: 34.4 seconds RetCode: 0 Status: OK