Package: RLassoCox Version: 1.15.0 Command: /home/biocbuild/R/R/bin/R CMD INSTALL RLassoCox StartedAt: 2025-01-29 20:16:41 -0000 (Wed, 29 Jan 2025) EndedAt: 2025-01-29 20:16:49 -0000 (Wed, 29 Jan 2025) EllapsedTime: 8.3 seconds RetCode: 0 Status: OK