Package: RLassoCox Version: 1.15.0 Command: /home/biocbuild/R/R/bin/R CMD check --install=check:RLassoCox.install-out.txt --library=/home/biocbuild/R/R/site-library --no-vignettes --timings RLassoCox_1.15.0.tar.gz StartedAt: 2025-01-28 14:34:17 -0000 (Tue, 28 Jan 2025) EndedAt: 2025-01-28 14:41:16 -0000 (Tue, 28 Jan 2025) EllapsedTime: 419.4 seconds RetCode: 0 Status: OK CheckDir: RLassoCox.Rcheck Warnings: 0