Package: RLassoCox Version: 1.15.0 Command: /home/biocbuild/R/R/bin/R CMD build --keep-empty-dirs --no-resave-data RLassoCox StartedAt: 2025-01-29 01:44:21 -0000 (Wed, 29 Jan 2025) EndedAt: 2025-01-29 01:46:25 -0000 (Wed, 29 Jan 2025) EllapsedTime: 123.1 seconds RetCode: 0 Status: OK PackageFile: RLassoCox_1.15.0.tar.gz PackageFileSize: 1.987 MiB