Package: RLassoCox Version: 1.15.0 Command: /Library/Frameworks/R.framework/Resources/bin/R CMD check --install=check:RLassoCox.install-out.txt --library=/Library/Frameworks/R.framework/Resources/library --no-vignettes --timings RLassoCox_1.15.0.tar.gz StartedAt: 2025-02-04 21:01:32 -0500 (Tue, 04 Feb 2025) EndedAt: 2025-02-04 21:03:04 -0500 (Tue, 04 Feb 2025) EllapsedTime: 92.1 seconds RetCode: 0 Status: OK CheckDir: RLassoCox.Rcheck Warnings: 0