Package: RJMCMCNucleosomes Version: 1.31.0 Command: /Library/Frameworks/R.framework/Resources/bin/R CMD INSTALL RJMCMCNucleosomes StartedAt: 2025-02-16 15:10:23 -0500 (Sun, 16 Feb 2025) EndedAt: 2025-02-16 15:10:40 -0500 (Sun, 16 Feb 2025) EllapsedTime: 17.0 seconds RetCode: 0 Status: OK