Package: RImmPort Version: 1.37.0 Command: /home/biocbuild/bbs-3.22-bioc/R/bin/R CMD INSTALL RImmPort StartedAt: 2025-10-14 15:09:16 -0400 (Tue, 14 Oct 2025) EndedAt: 2025-10-14 15:09:24 -0400 (Tue, 14 Oct 2025) EllapsedTime: 7.6 seconds RetCode: 0 Status: OK