Package: RImmPort Version: 1.37.0 Command: /home/biocbuild/bbs-3.22-bioc/R/bin/R CMD build --keep-empty-dirs --no-resave-data --md5 RImmPort StartedAt: 2025-10-14 19:39:51 -0400 (Tue, 14 Oct 2025) EndedAt: 2025-10-14 19:40:10 -0400 (Tue, 14 Oct 2025) EllapsedTime: 19.0 seconds RetCode: 0 Status: OK PackageFile: RImmPort_1.37.0.tar.gz PackageFileSize: 2.828 MiB