Package: RIVER Version: 1.33.0 Command: chmod a+r RIVER -R && F:\biocbuild\bbs-3.22-bioc\R\bin\R.exe CMD build --keep-empty-dirs --no-resave-data RIVER StartedAt: 2025-08-14 22:48:02 -0400 (Thu, 14 Aug 2025) EndedAt: 2025-08-14 22:48:45 -0400 (Thu, 14 Aug 2025) EllapsedTime: 43.0 seconds RetCode: 0 Status: OK PackageFile: RIVER_1.33.0.tar.gz PackageFileSize: 1.256 MiB